BEGIN:VCALENDAR
VERSION:2.0
METHOD:PUBLISH
BEGIN:VEVENT
UID:WILD_APRICOT_EVENT_2610840_SESSION_1
DTSTART:20170815T084500Z
DTEND:20170815T084500Z
SUMMARY:Night Ride #19 - Let it glow
LOCATION:BP Stapylton\, Henry Hester Dr\, Stapylton QLD
DESCRIPTION:https://www.bmwcq.com.au/event-2610840\n\n\n\n  NIGHT RIDERS - NR#19 is on. Get excited for another midweek club run\, with a difference. You don't need to be at work on Wednesday\, so come out and 'Glow'\n  70 mins of back road fun leading to a rain-forest location\, where we'll trek down to see glow-worms in their natural habitat.\n  Dress up warm\, because it may be cold out.\n  Afterwards we'll head back\, finishing with a refreshment at a landmark pub. You will be home by 11.30pm. \n  Night rides are the best way to break up a week at the "Salt Mine"\, and you won't quickly forget the aural and visual feast a BMWCQ Night ride delivers.  \n  Join your club mates on this night-time adventure that will have you hanging for the next one.  This is what makes BMWCQ so great to be a part of.  The mates and the good times and chats had over a good meal and a great coffee after an even better drive.\n  \n\n  \n\n  \n\n
DTSTAMP:20190228T210730Z
END:VEVENT
END:VCALENDAR
