BEGIN:VCALENDAR
VERSION:2.0
METHOD:PUBLISH
BEGIN:VEVENT
UID:WILD_APRICOT_EVENT_2610836_SESSION_1
DTSTART:20171109T213000Z
DTEND:20171110T060000Z
SUMMARY:Rnd 1 2017-18 SCC Sprint Series - Lakeside
LOCATION:Lakeside Park
DESCRIPTION:https://www.bmwcq.com.au/event-2610836\n\nThe first round of our Sommer Car Care 2017-18 Sprint Series\, and your last chance to enjoy some track fun before our summer break till late February\, so don't miss out and get your entry in now.\n  With prices starting from just $205 for members\, for a full day of track action\, its by far the best value track day available.\n  https://www.bmwcq.com.au/event-2610836\n\n  \n\n
DTSTAMP:20190228T210243Z
END:VEVENT
END:VCALENDAR
