BEGIN:VCALENDAR
VERSION:2.0
METHOD:PUBLISH
BEGIN:VEVENT
UID:WILD_APRICOT_EVENT_2610830_SESSION_1
DTSTART:20171021T234000Z
DTEND:20171022T020000Z
SUMMARY:Lunch Cruise #10 - Surf and Turf
LOCATION:BP\, Cnr Pacific Hwy & Stapylton - Jacobs Well Rd\, Stapylton
DESCRIPTION:https://www.bmwcq.com.au/event-2610830\n\n\n\n  Hope you like Seafood or Steak.  We're heading to Ashmore Seafood and Steak at Ashmore on the Gold Coast.  This is one of the best seafood places around.\n\n  We'll be meeting at the BP Service Centre at Stapylton (that's the one heading south on the Pacific Highway) at 9.40am for a briefing at 9.45am.  Departing at 10am. We head west and south through our magnificent hinterland before coming back to the Gold Coast via Nerang arriving for lunch about 11.45am.\n\n  Look forward to seeing you all.\n  \n\n
DTSTAMP:20190228T210321Z
END:VEVENT
END:VCALENDAR
