BEGIN:VCALENDAR
VERSION:2.0
METHOD:PUBLISH
BEGIN:VEVENT
UID:WILD_APRICOT_EVENT_2610829_SESSION_1
DTSTART:20171020T220000Z
DTEND:20171020T220000Z
SUMMARY:Sommer Car Care - Skid Pan
LOCATION:The Mt Cotton Driver Training Centre
DESCRIPTION:https://www.bmwcq.com.au/event-2610829\n\n\n\n  \n  Don't miss a chance to have some extreme fun in your car\, all whilst learning valuable car handling skills that could save your life\, or anothers.\n\n  Expert or novice\, all are welcome!  Help and instruction will be available on the day for anyone interested in pushing their skills just that little bit more.  \;-)   It's always a complete mix of skill levels so don't feel like you will be the only learner!\n  The cost is just $125 per entry  for BMWCQ Members and only $140 per entry for non-members.  Yes - you can share an entry with as many drivers as you want!\n  Weather: \nThe course will be conducted irrespective of the weather conditions.\n  Travel Time:\n\n  BRISBANE CBD     40 minutes                            SOUTHPORT         50 minutes\nTOOWOOMBA    100 minutes\n\n  \n\n  Alcohol:\nThe consumption of alcohol the night before will affect your ability to drive safely. We reserve the right to breath test and exclude participants.\n\n  \n\n  Noise:\n  Mt. Cotton Training Centre has a strict noise policy that applies to\n  all hirers/users.\n\n  Mt. Cotton Training Centre has a strict noise policy that applies to all Vehicles.  Peek noise cannot exceed 90 dB.   Random testing is performed by centre management (And BCC) and cars exceeding 90 dB will be banned from further use immediately. In this event\, Safe Drive Training cannot provide any refund of course fees.   Noise reduction advice is available for all cars.\n\n  \n\n  Clothing:\nWe recommend comfortable clothing with regards to the likely conditions (hat & sun screen or warm jacket & umbrella). \n  Closed footwear is MANDATORY!\n  \n\n  We have a limited number of places for this events so register now - don't miss out!\n
DTSTAMP:20260424T165053Z
END:VEVENT
END:VCALENDAR
