BEGIN:VCALENDAR
VERSION:2.0
METHOD:PUBLISH
BEGIN:VEVENT
UID:WILD_APRICOT_EVENT_2610820_SESSION_1
DTSTART:20170923T230000Z
DTEND:20170924T023000Z
SUMMARY:BMWCQ Classics Run #2
LOCATION:
DESCRIPTION:https://www.bmwcq.com.au/event-2610820\n\n\n\n  Time to get out your BMW classic for our first BMWCQ Classics run.\n  Open only to BMW classic cars which include 2002\, E9\, E12\, E21\, E23\, E28 & early chrome bumper E30 models. (Essentially any BMW vehicle 30+ years of age).\n  Don't have a classic\, but still want to join the fun? Co-pilots are more than welcome so simply register as a passenger and we'll get you in.\n  Addam Smith\, our new BMWCQ classics leader is putting this one together\, so let's show him the support this club is renowned for.\n  Guys coming from Brisbane Please meet Mario Lamont and Tone Davis \n  Time 8.15am Sharp \n  Where  BP Connect Stapylton (Yatala)\n  Main run starts from\n  VINCE HINDE PARK\n  Address: LOT 149 Beaudesert Nerang Rd\, Nerang QLD 4211\n  Meet Addam Smith\n  Time 9.00am Sharp \n
DTSTAMP:20190228T210507Z
END:VEVENT
END:VCALENDAR
