BEGIN:VCALENDAR
VERSION:2.0
METHOD:PUBLISH
BEGIN:VEVENT
UID:WILD_APRICOT_EVENT_2610040_SESSION_1
DTSTART:20170729T220000Z
DTEND:20170729T220000Z
SUMMARY:Observation Fun Drive
LOCATION:Yamanto Shopping Centre
DESCRIPTION:https://www.bmwcq.com.au/event-2610040\n\nIf you don't have an M car and feel like a social drive\, then we have just the event for you.\n  The Northern District Car Club is hosting an Observation Fun Drive as a round of the InterClub Challenge Series. A chance to head out with the whole family for a fun day out of all bitumen driving and enjoy the glorious winter weather and to meet some other likeminded people enjoying their cars.\n  It is a simple map reading event and all maps will be provided. You will also be representing our club in this round of the InterClub Challenge. There will be a charge of $15 per car to cover the cost of printing the detailed maps supplied. \n  The attached PDF has all the details and contact info.\n  Hope to see you there.\n  Observation run 2017.pdf\n\n
DTSTAMP:20190228T210827Z
END:VEVENT
END:VCALENDAR
