BEGIN:VCALENDAR
VERSION:2.0
METHOD:PUBLISH
BEGIN:VEVENT
UID:WILD_APRICOT_EVENT_2609962_SESSION_1
DTSTART:20170825T230000Z
DTEND:20170826T040000Z
SUMMARY:Sommer Car Care Open Tech Day
LOCATION:38 Finsbury St\, Newmarket
DESCRIPTION:https://www.bmwcq.com.au/event-2609962\n\n\n\n  Welcome to our first Open Tech day for BMWCQ members and friends.\n  This will be a real family-friendly day\, where you can get to know the team at Sommer Car Care\, whilst enjoying a picnic in McCook Park\, right opposite the workshop.\n  There will be a great range of activities available:\n      * Free vehicle inspections\n\n        * Driving simulator competition\n\n        * Car of the Day competition\n\n        * Food in the Park\n\n        * Games in the park for the kids\n\nAs well as all this\, there will be lots of giveaways too!  Don't miss this great event\, and the chance to meet our new Motorsport sponsor.\n  \n\n
DTSTAMP:20190228T210704Z
END:VEVENT
END:VCALENDAR
