BEGIN:VCALENDAR
VERSION:2.0
METHOD:PUBLISH
BEGIN:VEVENT
UID:WILD_APRICOT_EVENT_2589647_SESSION_1
DTSTART:20170914T213000Z
DTEND:20170915T060000Z
SUMMARY:Rnd 5 SCC Sprint Series - Lakeside
LOCATION:Lakeside Park
DESCRIPTION:https://www.bmwcq.com.au/event-2589647\n\nThe last round of our Sommer Car Care 2016-17 Sprint Series. Its been a while since we've been at Lakeside for a sprint day\, so don't miss out on all the Friday fun.\n  An event for all levels of driver. Non-members welcome.  Entries are now open.\n  You don't need to be a member (though you get a discount if you are) and you don't need to have a BMW (members still receive "championship points" if you are running a non BMW).\n  Thanks to our motorsport sponsors\, Sommer Car Care\, member entries will be subsidised $10 per entry.\n  We encourage all members\, if you haven't ever experienced a club track day to come and give one a try.  They are a friendly and social day where you can experience your BMW in a controlled environment away from the roads and other not so informed drivers and drive at speeds that will not return you with a fuzzy picture of your car.\n  \n\n
DTSTAMP:20190228T210518Z
END:VEVENT
END:VCALENDAR
