BEGIN:VCALENDAR
VERSION:2.0
METHOD:PUBLISH
BEGIN:VEVENT
UID:WILD_APRICOT_EVENT_2471530_SESSION_1
DTSTART:20171216T140000Z
DTEND:20171217T140000Z
SUMMARY:BMWCQ E30 register: end of year BBQ & Beach cruise 17/12/2017
LOCATION:To be confirmed.
DESCRIPTION:https://www.bmwcq.com.au/event-2471530\n\nBMWCQ E30 register: end of year BBQ & Beach cruise 17/12/2017.\n  Start time and location to be confirmed. \n
DTSTAMP:20190228T205951Z
END:VEVENT
END:VCALENDAR
