BEGIN:VCALENDAR
VERSION:2.0
METHOD:PUBLISH
BEGIN:VEVENT
UID:WILD_APRICOT_EVENT_2471524_SESSION_1
DTSTART:20171013T140000Z
DTEND:20171014T140000Z
SUMMARY:BMWCQ E30 register: Meet and cruise Saturday 14/10/2017
LOCATION:To be confirmed
DESCRIPTION:https://www.bmwcq.com.au/event-2471524\n\nBMWCQ E30 register: Meet and cruise Saturday 14/10/2017.\n  Start time and location to be confirmed. \n
DTSTAMP:20190228T210409Z
END:VEVENT
END:VCALENDAR
