BEGIN:VCALENDAR
VERSION:2.0
METHOD:PUBLISH
BEGIN:VEVENT
UID:WILD_APRICOT_EVENT_2471523_SESSION_1
DTSTART:20170823T080000Z
DTEND:20170823T110000Z
SUMMARY:BMWCQ E30 register: Wednesday night at the drags 23/08/2017
LOCATION:Shell Service Station\, London road Belmont
DESCRIPTION:https://www.bmwcq.com.au/event-2471523\n\n\n  BMWCQ E30 register: Wednesday night at the drags 23/08/2017.\n  Like to come along with some club members to either watch or participate in the Wednesday night drags at Willowbank\, then feel free to join us.\n  You can either meet up with us to cruise there together (details below) or just meet us directly there.\n  Meet point for the cruise to the drags:\n  Shell Service Station on London road\, Belmont.\n  Timeframe:\n  6pm time for a 6:15pm sharp departure time to the drags. Please don't be late if you'd like to cruise together\, otherwise we'll meet you at the Willowbank drags located at 38 Champions way\, Willowbank.\n  Drag costs is estimated between $50-$75.\n  If you have any questions\, feel free to contact Alec McEwan directly on 0422 665 698.\n   \n   \n
DTSTAMP:20190228T210719Z
END:VEVENT
END:VCALENDAR
