BEGIN:VCALENDAR
VERSION:2.0
METHOD:PUBLISH
BEGIN:VEVENT
UID:WILD_APRICOT_EVENT_2471520_SESSION_1
DTSTART:20171125T000000Z
DTEND:20171125T040000Z
SUMMARY:BMWCQ E30 register: Annual Tech day 2017
LOCATION:Sommer Car Care\, Finsbury Street\, Newmarket.
DESCRIPTION:https://www.bmwcq.com.au/event-2471520\n\nBMWCQ E30 register: Annual Tech day 2017 \n  The BMW Club Queensland E30 Register annual tech day attracting E30 enthusiasts from across Queensland and northern NSW to meet\, share our rides and hunt for E30 parts and specials with our friends from Sommer Car Care who are our hosts for this amazing day.  \n  Start time: 10am sharp to get your space.\n
DTSTAMP:20190228T210156Z
END:VEVENT
END:VCALENDAR
