BEGIN:VCALENDAR
VERSION:2.0
METHOD:PUBLISH
BEGIN:VEVENT
UID:WILD_APRICOT_EVENT_2444368_SESSION_1
DTSTART:20170811T090000Z
DTEND:20170811T103000Z
SUMMARY:BMWCQ Club Meeting - Please Note Change of Venue
LOCATION:Brisbane BMW 800 Ann St\, Fortitude Valley
DESCRIPTION:https://www.bmwcq.com.au/event-2444368\n\n\n\n  Members our meetings are an open forum where you get to find out exactly what is happen within your club.\n  Come along\, catch up with old friends\, meet some new ones and ask the questions you want to know. Our meetings are run in a fun\, friendly informal format but cover all the topics and are very informative.\n  Thinking about joining BMW Club Qld? You are more than welcome to come along to a meeting and get to know us.\n  Occasionally we will have an informative guest speaker to add a little more interest to the meeting.\n\n  Usually once the meeting is closed we head to a nearby restaurant for a casual get together over a nice meal.\n\n  Meeting starts at 7:00pm.\n\n  \n\n  \n\n
DTSTAMP:20190228T210815Z
END:VEVENT
END:VCALENDAR
