BEGIN:VCALENDAR
VERSION:2.0
METHOD:PUBLISH
BEGIN:VEVENT
UID:WILD_APRICOT_EVENT_2444346_SESSION_1
DTSTART:20171007T223000Z
DTEND:20171008T003000Z
SUMMARY:Social Sunday - Cars and Coffee - Ipswich
LOCATION:Colleges By The River\, 408-492 Mt Crosby Road\, Chuwar
DESCRIPTION:https://www.bmwcq.com.au/event-2444346\n\n\n\n\n  This is your monthly social event\, a very relaxed and friendly environment at Colleges Crossing Ipswich.\n  Simply roll on out\, park up and join in the fun\, there is a café offering food\, coffee and cold beverages along with great company and a myriad of cars to feast your eyes on.\n  https://www.facebook.com/CACIpswich/?fref=ts\n\n
DTSTAMP:20190228T210445Z
END:VEVENT
END:VCALENDAR
